Workbook

Sheet TOTAL MANGO PRODUCTION
B2: TOTAL SOUTH AFRICAN MANGO PRODUCTION (TONS)
A3: Year | B3: ACHAR | C3: % | D3: DRIED | E3: % | F3: JUICE | G3: % | H3: NATIONAL FRESH PRODUCE MARKETS | I3: % | J3: EXPORT | K3: % | L3: DIRECT SALES1 | M3: % | N3: TOTAL
A4: 86/87 | B4: ='DATA BEFORE 2000'!C7 -> 6000 | C4: =B4/N4 -> 0.25460409 | D4: ='DATA BEFORE 2000'!F7 -> 350 | E4: =D4/N4 -> 0.014851905 | F4: ='DATA BEFORE 2000'!I9 -> 1000 | G4: =F4/N4 -> 0.042434015 | H4: ='DATA BEFORE 2000'!L20 -> 15768 | I4: =H4/N4 -> 0.66909955 | J4: ='DATA BEFORE 2000'!P11 -> 1448 | K4: =J4/N4 -> 0.061444454 | M4: =L4/N4*100 -> 0 | N4: =SUM(J4+H4+B4+D4) -> 23566
A5: 87/88 | B5: ='DATA BEFORE 2000'!C8 -> 9000 | C5: =B5/N5 -> 0.39064195 | D5: ='DATA BEFORE 2000'!F8 -> 535 | E5: =D5/N5 -> 0.023221494 | F5: ='DATA BEFORE 2000'!I10 -> 2350 | G5: =F4/N5 -> 0.043404662 | H5: ='DATA BEFORE 2000'!L21 -> 10972 | I5: =H5/N5 -> 0.47623595 | J5: ='DATA BEFORE 2000'!P12 -> 1532 | K5: =J5/N5 -> 0.066495942 | M5: =L5/N5*100 -> 0 | N5: =SUM(J5+H5+F4+B5+D5) -> 23039
A6: 88/89 | B6: ='DATA BEFORE 2000'!C9 -> 5500 | C6: =B6/N6 -> 0.23548125 | D6: ='DATA BEFORE 2000'!F9 -> 570 | E6: =D6/N6 -> 0.024404421 | F6: ='DATA BEFORE 2000'!I11 -> 755 | G6: =F5/N6 -> 0.10061472 | H6: ='DATA BEFORE 2000'!L22 -> 12536.424 | I6: =H6/N6 -> 0.53674415 | J6: ='DATA BEFORE 2000'!P13 -> 2400 | K6: =J6/N6 -> 0.10275546 | M6: =L6/N6*100 -> 0 | N6: =SUM(J6+H6+F5+B6+D6) -> 23356.424
A7: 89/90 | B7: ='DATA BEFORE 2000'!C10 -> 7750 | C7: =B7/N7 -> 0.29597098 | D7: ='DATA BEFORE 2000'!F10 -> 600 | E7: =D7/N7 -> 0.022913882 | F7: ='DATA BEFORE 2000'!I12 -> 930 | G7: =F6/N7 -> 0.028833302 | H7: ='DATA BEFORE 2000'!L23 -> 14400 | I7: =H7/N7 -> 0.54993317 | J7: ='DATA BEFORE 2000'!P14 -> 2680 | K7: =J7/N7 -> 0.10234867 | M7: =L7/N7*100 -> 0 | N7: =SUM(J7+H7+F6+B7+D7) -> 26185
A8: 90/91 | B8: ='DATA BEFORE 2000'!C11 -> 9980 | C8: =B8/N8 -> 0.37130739 | D8: ='DATA BEFORE 2000'!F11 -> 700 | E8: =D8/N8 -> 0.026043604 | F8: ='DATA BEFORE 2000'!I13 -> 2400 | G8: =F7/N8 -> 0.034600789 | H8: ='DATA BEFORE 2000'!L24 -> 12820 | I8: =H8/N8 -> 0.47697001 | J8: ='DATA BEFORE 2000'!P15 -> 2448 | K8: =J8/N8 -> 0.091078205 | M8: =L8/N8*100 -> 0 | N8: =SUM(J8+H8+F7+B8+D8) -> 26878
A9: 91/92 | B9: ='DATA BEFORE 2000'!C12 -> 12000 | C9: =B9/N9 -> 0.356973 | D9: ='DATA BEFORE 2000'!F12 -> 700 | E9: =D9/N9 -> 0.020823425 | F9: ='DATA BEFORE 2000'!I14 -> 3300 | G9: =F8/N9 -> 0.071394599 | H9: ='DATA BEFORE 2000'!L25 -> 14115.988 | I9: =H9/N9 -> 0.41991888 | J9: ='DATA BEFORE 2000'!P16 -> 4400 | K9: =J9/N9 -> 0.1308901 | M9: =L9/N9*100 -> 0 | N9: =SUM(J9+H9+F8+B9+D9) -> 33615.988
A10: 92/93 | B10: ='DATA BEFORE 2000'!C13 -> 12000 | C10: =B10/N10 -> 0.35080843 | D10: ='DATA BEFORE 2000'!F13 -> 710 | E10: =D10/N10 -> 0.020756165 | F10: ='DATA BEFORE 2000'!I15 -> 4000 | G10: =F9/N10 -> 0.096472317 | H10: ='DATA BEFORE 2000'!L26 -> 13916.704 | I10: =H10/N10 -> 0.40684142 | J10: ='DATA BEFORE 2000'!P17 -> 4280 | K10: =J10/N10 -> 0.12512167 | M10: =L10/N10*100 -> 0 | N10: =SUM(J10+H10+F9+B10+D10) -> 34206.704
A11: 93/94 | B11: ='DATA BEFORE 2000'!C14 -> 16000 | C11: =B11/N11 -> 0.35975422 | D11: ='DATA BEFORE 2000'!F14 -> 725 | E11: =D11/N11 -> 0.016301363 | F11: ='DATA BEFORE 2000'!I16 -> 4000 | G11: =F10/N11 -> 0.089938556 | H11: ='DATA BEFORE 2000'!L27 -> 17549.808 | I11: =H11/N11 -> 0.3946011 | J11: ='DATA BEFORE 2000'!P18 -> 6200 | K11: =J11/N11 -> 0.13940476 | M11: =L11/N11*100 -> 0 | N11: =SUM(J11+H11+F10+B11+D11) -> 44474.808
A12: 94/95 | B12: ='DATA BEFORE 2000'!C15 -> 19000 | C12: =B12/N12 -> 0.42374764 | D12: ='DATA BEFORE 2000'!F15 -> 750 | E12: =D12/N12 -> 0.01672688 | F12: ='DATA BEFORE 2000'!I17 -> 4571 | G12: =F11/N12 -> 0.089210029 | H12: ='DATA BEFORE 2000'!L28 -> 14488.008 | I12: =H12/N12 -> 0.3231189 | J12: ='DATA BEFORE 2000'!P19 -> 6600 | K12: =J12/N12 -> 0.14719655 | M12: =L12/N12*100 -> 0 | N12: =SUM(J12+H12+F11+B12+D12) -> 44838.008
A13: 95/96 | B13: ='DATA BEFORE 2000'!C16 -> 19000 | C13: =B13/N13 -> 0.41669046 | D13: ='DATA BEFORE 2000'!F16 -> 1000 | E13: =D13/N13 -> 0.021931077 | F13: ='DATA BEFORE 2000'!I18 -> 3500 | G13: =F12/N13 -> 0.10024695 | H13: ='DATA BEFORE 2000'!L29 -> 14774.86 | I13: =H13/N13 -> 0.32402859 | J13: ='DATA BEFORE 2000'!P20 -> 6251.536 | K13: =J13/N13 -> 0.13710292 | M13: =L13/N13*100 -> 0 | N13: =SUM(J13+H13+F12+B13+D13) -> 45597.396
A14: 96/97 | B14: ='DATA BEFORE 2000'!C17 -> 11793 | C14: =B14/N14 -> 0.3115133 | D14: ='DATA BEFORE 2000'!F17 -> 2500 | E14: =D14/N14 -> 0.066037755 | F14: ='DATA BEFORE 2000'!I19 -> 3826 | G14: =F13/N14 -> 0.092452857 | H14: ='DATA BEFORE 2000'!L30 -> 13155.856 | I14: =H14/N14 -> 0.34751328 | J14: ='DATA BEFORE 2000'!P21 -> 6908.276 | K14: =J14/N14 -> 0.18248281 | M14: =L14/N14*100 -> 0 | N14: =SUM(J14+H14+F13+B14+D14) -> 37857.132
A15: 97/98 | B15: ='DATA BEFORE 2000'!C18 -> 15000 | C15: =B15/N15 -> 0.31103487 | D15: ='DATA BEFORE 2000'!F18 -> 2626 | E15: =D15/N15 -> 0.054451838 | F15: ='DATA BEFORE 2000'!I20 -> 5500 | G15: =F14/N15 -> 0.079334628 | H15: ='DATA BEFORE 2000'!L31 -> 18170.332 | I15: =H15/N15 -> 0.37677379 | J15: ='DATA BEFORE 2000'!P22 -> 8603.772 | K15: =J15/N15 -> 0.17840487 | N15: =SUM(J15+H15+F14+B15+D15) -> 48226.104
A16: 98/99 | B16: ='DATA BEFORE 2000'!C19 -> 20000 | C16: =B16/N16 -> 0.32227829 | D16: ='DATA BEFORE 2000'!F19 -> 3000 | E16: =D16/N16 -> 0.048341743 | F16: ='DATA BEFORE 2000'!I21 -> 8407 | G16: =F15/N16 -> 0.088626529 | H16: ='DATA BEFORE 2000'!L32 -> 20851.612 | I16: =H16/N16 -> 0.33600109 | J16: ='DATA BEFORE 2000'!P23 -> 12706.556 | K16: =J16/N16 -> 0.20475235 | N16: =SUM(J16+H16+F15+B16+D16) -> 62058.168
A17: 99/00 | B17: ='DATA BEFORE 2000'!C20 -> 15000 | C17: =B17/N17 -> 0.26398869 | D17: ='DATA BEFORE 2000'!F20 -> 3000 | E17: =D17/N17 -> 0.052797738 | F17: ='DATA BEFORE 2000'!I22 -> 5000 | G17: =F16/N17 -> 0.14795686 | H17: ='DATA BEFORE 2000'!L33 -> 19881.972 | I17: =H17/N17 -> 0.34990772 | J17: ='DATA BEFORE 2000'!P24 -> 10531.644 | K17: =J17/N17 -> 0.18534899 | N17: =SUM(J17+H17+F16+B17+D17) -> 56820.616
A18: 00/01 | B18: =ACHAR!C7 -> 20000 | C18: =B18/N18 -> 0.30913117 | D18: =DRIED!C7 -> 4500 | E18: =D18/N18 -> 0.069554512 | F18: ='DATA BEFORE 2000'!I23 -> 8000 | G18: =F18/N18 -> 0.12365247 | H18: =NFPM!E7 -> 20277.056 | I18: =H18/N18 -> 0.3134135 | J18: =EXPORT!C7 -> 11920.4 | K18: =J18/N18 -> 0.18424836 | M18: =L18/N18 -> 0 | N18: =B18+D18+F18+H18+J18+L18 -> 64697.456
A19: 01/02 | B19: =ACHAR!C8 -> 23561 | C19: =B19/N19 -> 0.27750076 | D19: =DRIED!C8 -> 5271 | E19: =D19/N19 -> 0.062081682 | F19: ='JUICE '!C10 -> 15153 | G19: =F19/N19 -> 0.17847159 | H19: =NFPM!E8 -> 24513 | I19: =H19/N19 -> 0.28871339 | J19: =EXPORT!C8 -> 16406.272 | K19: =J19/N19 -> 0.19323259 | M19: =L19/N19 -> 0 | N19: =B19+D19+F19+H19+J19+L19 -> 84904.272
A20: 02/03 | B20: =ACHAR!C9 -> 15025 | C20: =B20/N20 -> 0.22500356 | D20: =DRIED!C9 -> 6090 | E20: =D20/N20 -> 0.091199448 | F20: ='JUICE '!C11 -> 11761 | G20: =F20/N20 -> 0.17612425 | H20: =NFPM!E9 -> 16564 | I20: =H20/N20 -> 0.24805052 | J20: =EXPORT!C9 -> 17336.72 | K20: =J20/N20 -> 0.25962222 | M20: =L20/N20 -> 0 | N20: =B20+D20+F20+H20+J20+L20 -> 66776.72
A21: 03/04 | B21: =ACHAR!C10 -> 22143 | C21: =B21/N21 -> 0.29981585 | D21: =DRIED!C10 -> 7228 | E21: =D21/N21 -> 0.097866998 | F21: ='JUICE '!C12 -> 19868 | G21: =F21/N21 -> 0.26901238 | H21: =NFPM!E10 -> 17032.82 | I21: =H21/N21 -> 0.23062409 | J21: =EXPORT!C10 -> 7583.516 | K21: =J21/N21 -> 0.10268068 | M21: =L21/N21 -> 0 | N21: =B21+D21+F21+H21+J21+L21 -> 73855.336
A22: 04/05 | B22: =ACHAR!C11 -> 16939 | C22: =B22/N22 -> 0.1893392 | D22: =DRIED!C11 -> 11894 | E22: =D22/N22 -> 0.13294766 | F22: ='JUICE '!C13 -> 34922 | G22: =F22/N22 -> 0.39034793 | H22: =NFPM!E11 -> 19653.192 | I22: =H22/N22 -> 0.21967765 | J22: =EXPORT!C11 -> 6055.584 | K22: =J22/N22 -> 0.067687552 | M22: =L22/N22 -> 0 | N22: =B22+D22+F22+H22+J22+L22 -> 89463.776
A23: 05/06 | B23: =ACHAR!C12 -> 12456 | C23: =B23/N23 -> 0.21272157 | D23: =DRIED!C12 -> 11606 | E23: =D23/N23 -> 0.19820541 | F23: ='JUICE '!C14 -> 16174 | G23: =F23/N23 -> 0.27621698 | H23: =NFPM!E12 -> 15964.632 | I23: =H23/N23 -> 0.27264142 | J23: =EXPORT!C12 -> 2354.784 | K23: =J23/N23 -> 0.040214623 | M23: =L23/N23 -> 0 | N23: =B23+D23+F23+H23+J23+L23 -> 58555.416
A24: 06/07 | B24: =ACHAR!C13 -> 25000 | C24: =B24/N24 -> 0.29076201 | D24: =DRIED!C13 -> 16840 | E24: =D24/N24 -> 0.19585729 | F24: ='JUICE '!C15 -> 18550 | G24: =F24/N24 -> 0.21574541 | H24: =NFPM!E13 -> 21161.44 | I24: =H24/N24 -> 0.24611771 | J24: =EXPORT!C13 -> 4429.532 | K24: =J24/N24 -> 0.051517585 | M24: =L24/N24 -> 0 | N24: =B24+D24+F24+H24+J24+L24 -> 85980.972
A25: 07/08 | B25: =ACHAR!C14 -> 25000 | C25: =B25/N25 -> 0.26115804 | D25: =DRIED!C14 -> 17017 | E25: =D25/N25 -> 0.17776505 | F25: ='JUICE '!C16 -> 32473 | G25: =F25/N25 -> 0.3392234 | H25: =NFPM!E14 -> 18654 | I25: =H25/N25 -> 0.19486568 | J25: =EXPORT!C14 -> 2583.476 | K25: =J25/N25 -> 0.026987821 | M25: =L25/N25 -> 0 | N25: =B25+D25+F25+H25+J25+L25 -> 95727.476
A26: 08/09 | B26: =ACHAR!C15 -> 25000 | C26: =B26/N26 -> 0.39205359 | D26: =DRIED!C15 -> 8379 | E26: =D26/N26 -> 0.13140068 | F26: ='JUICE '!C17 -> 14316 | G26: =F26/N26 -> 0.22450557 | H26: =NFPM!E15 -> 14452 | I26: =H26/N26 -> 0.22663834 | J26: =EXPORT!C15 -> 1619.792 | K26: =J26/N26 -> 0.025401811 | M26: =L26/N26 -> 0 | N26: =B26+D26+F26+H26+J26+L26 -> 63766.792
A27: 09/10 | B27: =ACHAR!C16 -> 25000 | C27: =B27/N27 -> 0.36309989 | D27: =DRIED!C16 -> 9747 | E27: =D27/N27 -> 0.14156539 | F27: ='JUICE '!C18 -> 17390 | G27: =F27/N27 -> 0.25257229 | H27: =NFPM!E16 -> 15099 | I27: =H27/N27 -> 0.21929781 | J27: =EXPORT!C16 -> 1615.576 | K27: =J27/N27 -> 0.023464619 | M27: =L27/N27 -> 0 | N27: =B27+D27+F27+H27+J27+L27 -> 68851.576
A28: 10/11 | B28: =ACHAR!C17 -> 26000 | C28: =B28/N28 -> 0.37550716 | D28: =DRIED!C17 -> 13338 | E28: =D28/N28 -> 0.19263517 | F28: ='JUICE '!C19 -> 16190 | G28: =F28/N28 -> 0.23382542 | H28: =NFPM!E17 -> 13055 | I28: =H28/N28 -> 0.18854792 | J28: =EXPORT!C17 -> 656.692 | K28: =J28/N28 -> 0.0094843287 | M28: =L28/N28 -> 0 | N28: =B28+D28+F28+H28+J28+L28 -> 69239.692
A29: 11/12 | B29: =ACHAR!C18 -> 26000 | C29: =B29/N29 -> 0.3325091 | D29: =DRIED!C18 -> 14122 | E29: =D29/N29 -> 0.1806036 | F29: ='JUICE '!C20 -> 18797 | G29: =F29/N29 -> 0.24039129 | H29: =NFPM!E18 -> 18202 | I29: =H29/N29 -> 0.23278195 | J29: =EXPORT!C18 -> 1072.348 | K29: =J29/N29 -> 0.013714057 | M29: =L29/N29 -> 0 | N29: =B29+D29+F29+H29+J29+L29 -> 78193.348
A30: 12/13 | B30: =ACHAR!C19 -> 28000 | C30: =B30/N30 -> 0.40760489 | D30: =DRIED!C19 -> 9330.93 | E30: =D30/N30 -> 0.13583331 | F30: ='JUICE '!C21 -> 11195.397 | G30: =F30/N30 -> 0.16297495 | H30: =NFPM!E19 -> 19225 | I30: =H30/N30 -> 0.27986443 | J30: =EXPORT!C19 -> 942.648 | K30: =J30/N30 -> 0.013722426 | M30: =L30/N30 -> 0 | N30: =B30+D30+F30+H30+J30+L30 -> 68693.975
A31: 13/14 | B31: =ACHAR!C20 -> 28000 | C31: =B31/N31 -> 0.39760228 | D31: =DRIED!C20 -> 13598.916 | E31: =D31/N31 -> 0.19310571 | F31: ='JUICE '!C22 -> 12661 | G31: =F31/N31 -> 0.17978723 | H31: =NFPM!E20 -> 14656 | I31: =H31/N31 -> 0.20811639 | J31: =EXPORT!C20 -> 1506.216 | K31: =J31/N31 -> 0.02138839 | M31: =L31/N31 -> 0 | N31: =B31+D31+F31+H31+J31+L31 -> 70422.132
A32: 14/15 | B32: =ACHAR!C21 -> 29000 | C32: =B32/N32 -> 0.32337559 | D32: =DRIED!C21 -> 18714.233 | E32: =D32/N32 -> 0.20868021 | F32: ='JUICE '!C23 -> 23781 | G32: =F32/N32 -> 0.26517914 | H32: =NFPM!E21 -> 15663 | I32: =H32/N32 -> 0.17465627 | J32: =EXPORT!C21 -> 2520.768 | K32: =J32/N32 -> 0.028108788 | L32: 0 | M32: =L32/N32 -> 0 | N32: =B32+D32+F32+H32+J32+L32 -> 89679.001
A33: 15/16 | B33: =ACHAR!C22 -> 29000 | C33: =B33/N33 -> 0.46861065 | D33: =DRIED!C22 -> 5382.3 | E33: =D33/N33 -> 0.086972521 | F33: ='JUICE '!C24 -> 11303 | G33: =F33/N33 -> 0.18264504 | H33: =NFPM!E22 -> 13942.044 | I33: =H33/N33 -> 0.22528932 | J33: =EXPORT!C22 -> 2257.72 | K33: =J33/N33 -> 0.03648247 | L33: 0 | M33: =L33/N33 -> 0 | N33: =B33+D33+F33+H33+J33+L33 -> 61885.064
A34: 16/17 | B34: =ACHAR!C23 -> 30000 | C34: =B34/N34 -> 0.31802372 | D34: =DRIED!C23 -> 15525.645 | E34: =D34/N34 -> 0.16458411 | F34: ='JUICE '!C25 -> 15289 | G34: =F34/N34 -> 0.16207549 | H34: =NFPM!E23 -> 27772 | I34: =H34/N34 -> 0.29440516 | J34: =EXPORT!C23 -> 4673.94 | K34: =J34/N34 -> 0.04954746 | L34: =DIRECT!C9 -> 1072 | M34: =L34/N34 -> 0.011364048 | N34: =B34+D34+F34+H34+J34+L34 -> 94332.585
A35: 17/18 | B35: =ACHAR!C24 -> 30000 | C35: =B35/N35 -> 0.34899541 | D35: =DRIED!C24 -> 12695.162 | E35: =D35/N35 -> 0.14768511 | F35: ='JUICE '!C26 -> 10086.71 | G35: =F35/N35 -> 0.11734052 | H35: =NFPM!E24 -> 22726 | I35: =H35/N35 -> 0.26437566 | J35: =EXPORT!C24 -> 4497.144 | K35: =J35/N35 -> 0.052316087 | L35: =DIRECT!C10 -> 5956 | M35: =L35/N35 -> 0.069287222 | N35: =B35+D35+F35+H35+J35+L35 -> 85961.016
A36: 18/19 | B36: =ACHAR!C25 -> 25000 | C36: =B36/N36 -> 0.28289891 | D36: =DRIED!C25 -> 9905.8633 | E36: =D36/N36 -> 0.11209432 | F36: ='JUICE '!C27 -> 15547.352 | G36: =F36/N36 -> 0.17593316 | H36: =NFPM!E25 -> 29655 | I36: =H36/N36 -> 0.33557469 | J36: =EXPORT!C25 -> 6038.574 | K36: =J36/N36 -> 0.06833224 | L36: =DIRECT!C11 -> 2224 | M36: =L36/N36 -> 0.025166687 | N36: =B36+D36+F36+H36+J36+L36 -> 88370.789
A37: 19/20 | B37: =ACHAR!C26 -> 30000 | C37: =B37/N37 -> 0.33351436 | D37: =DRIED!C26 -> 17218 | E37: =D37/N37 -> 0.19141501 | F37: ='JUICE '!C28 -> 9087 | G37: =F37/N37 -> 0.1010215 | H37: =NFPM!E26 -> 22900 | I37: =H37/N37 -> 0.25458263 | J37: =EXPORT!C26 -> 3925.196 | K37: =J37/N37 -> 0.043636974 | L37: =DIRECT!C12 -> 6820.954 | M37: =L37/N37 -> 0.075829536 | N37: =B37+D37+F37+H37+J37+L37 -> 89951.15
A38: 20/21 | B38: =ACHAR!C27 -> 25000 | C38: =B38/N38 -> 0.34886529 | D38: =DRIED!C27 -> 12647.632 | E38: =D38/N38 -> 0.17649279 | F38: ='JUICE '!C29 -> 7110.918 | G38: =F38/N38 -> 0.099230098 | H38: =NFPM!E27 -> 19383.41 | I38: =H38/N38 -> 0.27048795 | J38: =EXPORT!C27 -> 2954.454 | K38: =J38/N38 -> 0.041228258 | L38: =DIRECT!C13 -> 4564.485 | M38: =L38/N38 -> 0.063695615 | N38: =B38+D38+F38+H38+J38+L38 -> 71660.899
A39: 21/22 | B39: =ACHAR!C28 -> 15000 | C39: =B39/N39 -> 0.24091249 | D39: =DRIED!C28 -> 13396.929 | E39: =D39/N39 -> 0.21516583 | F39: ='JUICE '!C30 -> 6176.161 | G39: =F39/N39 -> 0.099194287 | H39: =NFPM!E28 -> 18263.526 | I39: =H39/N39 -> 0.29332743 | J39: =EXPORT!C28 -> 3250.496 | K39: =J39/N39 -> 0.052205672 | L39: =DIRECT!C14 -> 6176.161 | M39: =L39/N39 -> 0.099194287 | N39: =B39+D39+F39+H39+J39+L39 -> 62263.273
A40: 22/23 | B40: =ACHAR!C29 -> 35000 | C40: =B40/N40 -> 0.40717863 | D40: =DRIED!C29 -> 14743.791 | E40: =D40/N40 -> 0.17152448 | F40: ='JUICE '!C31 -> 8499.247 | G40: =F40/N40 -> 0.098877479 | H40: =NFPM!E29 -> 14910.002 | I40: =H40/N40 -> 0.17345812 | J40: =EXPORT!C29 -> 4305.072 | K40: =J40/N40 -> 0.05008381 | L40: =DIRECT!C15 -> 8499.247 | M40: =L40/N40 -> 0.098877479 | N40: =B40+D40+F40+H40+J40+L40 -> 85957.359
A41: 23/24 | B41: =ACHAR!C30 -> 30000 | C41: =B41/N41 -> 0.34995554 | D41: =DRIED!C30 -> 9784 | E41: =D41/N41 -> 0.11413217 | F41: ='JUICE '!C32 -> 10578 | G41: =F41/N41 -> 0.12339432 | H41: =NFPM!E30 -> 18426.824 | I41: =H41/N41 -> 0.2149523 | J41: =EXPORT!C30 -> 6358.352 | K41: =J41/N41 -> 0.07417135 | L41: =DIRECT!C16 -> 10578 | M41: =L41/N41 -> 0.12339432 | N41: =B41+D41+F41+H41+J41+L41 -> 85725.176
A42: 24/25 | B42: =ACHAR!C31 -> 30000 | C42: =B42/N42 -> 0.40805155 | D42: =DRIED!C31 -> 7863.75 | E42: =D42/N42 -> 0.10696051 | F42: ='JUICE '!C33 -> 5990.11 | G42: =F42/N42 -> 0.08147579 | H42: =NFPM!E31 -> 16809.964 | I42: =H42/N42 -> 0.2286444 | J42: =EXPORT!C31 -> 6136.088 | K42: =J42/N42 -> 0.083461341 | L42: =DIRECT!C17 -> 6720.21 | M42: =L42/N42 -> 0.091406404 | N42: =B42+D42+F42+H42+J42+L42 -> 73520.122
A43: 25/26 | B43: 35000 | C43: =B43/N43 -> 0.35654346 | D43: =DRIED!C32 -> 14515.3 | E43: =D43/N43 -> 0.14786672 | F43: ='JUICE '!C34 -> 10190.86 | G43: =F43/N43 -> 0.10381384 | H43: =NFPM!E32 -> 22205.718 | I43: =H43/N43 -> 0.22620867 | J43: =EXPORT!C32 -> 9435.144 | K43: =J43/N43 -> 0.096115397 | L43: =DIRECT!C18 -> 6817.729 | M43: =L43/N43 -> 0.069451905 | N43: =L43+J43+H43+F43+B43+D43 -> 98164.751
A44: 1 Direct sales (direct from packhouse to retailer) ony recorded from 2015.
A45: Mangoes sold into the informal market ('bakkie market') are not included in this table
B47: =SUM(B41:B43)/3 -> 31666.667 | D47: =SUM(D41:D43)/3 -> 10721.017 | F47: =SUM(F41:F43)/3 -> 8919.6567 | H47: =SUM(H41:H43)/3 -> 19147.502 | J47: =SUM(J41:J43)/3 -> 7309.8613 | L47: =SUM(L41:L43)/3 -> 8038.6463 | N47: =SUM(N41:N43)/3 -> 85803.35
B48: =B47/$N$47 -> 0.36906096 | D48: =D47/$N$47 -> 0.1249487 | F48: =F47/$N$47 -> 0.10395464 | H48: =H47/$N$47 -> 0.22315565 | J48: =J47/$N$47 -> 0.085193193 | L48: =L47/$N$47 -> 0.093686859

Sheet ACHAR
B2: MANGO
B3: PRODUCTION
B4: PROCESSING
B5: ACHAR
B6: YEAR | C6: TON
B7: 00/01 | C7: 20000
B8: 01/02 | C8: 23561
B9: 02/03 | C9: 15025
B10: 03/04 | C10: 22143
B11: 04/05 | C11: 16939
B12: 05/06 | C12: 12456
B13: 06/07 | C13: 25000
B14: 07/08 | C14: 25000
B15: 08/09 | C15: 25000
B16: 09/10 | C16: 25000
B17: 10/11 | C17: 26000
B18: 11/12 | C18: 26000
... B32: 25/26 | C32: 35000

Sheet DRIED
B2: MANGO
B3: PRODUCTION
B4: PROCESSING
B5: DRIED
B6: YEAR | C6: TON
B7: 00/01 | C7: 4500
B8: 01/02 | C8: 5271
B9: 02/03 | C9: 6090
B10: 03/04 | C10: 7228
B11: 04/05 | C11: 11894
B12: 05/06 | C12: 11606
B13: 06/07 | C13: 16840
B14: 07/08 | C14: 17017
B15: 08/09 | C15: 8379
B16: 09/10 | C16: 9747
B17: 10/11 | C17: 13338
B18: 11/12 | C18: ='[1]TOTAL MANGO PRODUCTION'!$B$45 -> 14122
B19: 12/13 | C19: ='[2]Totals 2012.2013'!$D$27 -> 9330.93
B20: 13/14 | C20: ='[3]Totals 2013.2014'!$D$29 -> 13598.916
B21: 14/15 | C21: ='[4]Totals 2014.2015'!$D$42 -> 18714.233
B22: 15/16 | C22: ='[1]TOTAL MANGO PRODUCTION'!$B$49 -> 5382.3
B23: 16/17 | C23: ='[5]Processing Recon All'!$B$76 -> 15525.645
B24: 17/18 | C24: =[6]DRIED!$B$36 -> 12695.162
B25: 18/19 | C25: =[6]DRIED!$B$37 -> 9905.8633
B26: 19/20 | C26: 17218
B27: 20/21 | C27: 12647.632
B28: 21/22 | C28: 13396.929
B29: 22/23 | C29: 14743.791
B30: 23/24 | C30: 9784
B31: 24/25 | C31: 7863.75
B32: 25/26 | C32: 14515.3

Sheet JUICE 
B2: MANGO
B3: PRODUCTION
B4: PROCESSING
B5: JUICE
B6: 83/84 | C6: 500
B7: 84/85 | C7: 500
B8: YEAR | C8: TON
B9: 00/01 | C9: 9500
B10: 01/02 | C10: 15153
B11: 02/03 | C11: 11761
B12: 03/04 | C12: 19868
B13: 04/05 | C13: 34922
B14: 05/06 | C14: 16174
B15: 06/07 | C15: 18550
B16: 07/08 | C16: 32473
B17: 08/09 | C17: 14316
B18: 09/10 | C18: 17390
B19: 10/11 | C19: 16190
B20: 11/12 | C20: ='[1]TOTAL MANGO PRODUCTION'!$F$45 -> 18797
B21: 12/13 | C21: ='[2]Totals 2012.2013'!$B$27 -> 11195.397
B22: 13/14 | C22: 12661
B23: 14/15 | C23: 23781
B24: 15/16 | C24: 11303
B25: 16/17 | C25: 15289
B26: 17/18 | C26: =[6]JUICE!$B$39 -> 10086.71
B27: 18/19 | C27: =[6]JUICE!$B$40 -> 15547.352
B28: 19/20 | C28: 9087
B29: 20/21 | C29: 7110.918
B30: 21/22 | C30: 6176.161
B31: 22/23 | C31: 8499.247
B32: 23/24 | C32: 10578
B33: 24/25 | C33: 5990.11
B34: 25/26 | C34: 10190.86

Sheet NFPM
D2: MANGO
D3: PRODUCTION
A4: R/CARTON | B4: TON | D4: NFPM
B5: 6964 | D5: SALES
D6: YEAR | E6: TONS | F6: 4Kg Cartons
A7: 10.95 | B7: 24513 | D7: 00/01 | E7: =F7*4/1000 -> 20277.056 | F7: 5069264
A8: 15.29 | B8: 16564 | D8: 01/02 | E8: =F8*4/1000 -> 24513 | F8: 6128250
A9: 14.94 | B9: 17033 | D9: 02/03 | E9: =F9*4/1000 -> 16564 | F9: 4141000
A10: 15.07 | B10: 19653 | D10: 03/04 | E10: =F10*4/1000 -> 17032.82 | F10: 4258205
A11: 16.6 | B11: 16133 | D11: 04/05 | E11: =F11*4/1000 -> 19653.192 | F11: 4913298
A12: 13.71 | B12: 21161 | D12: 05/06 | E12: =F12*4/1000 -> 15964.632 | F12: 3991158
A13: 18.62 | B13: 18654 | D13: 06/07 | E13: =F13*4/1000 -> 21161.44 | F13: 5290360
A14: 18.68 | B14: 14452 | D14: 07/08 | E14: =F14*4/1000 -> 18654 | F14: 4663500
A15: 23.79 | B15: 15099 | D15: 08/09 | E15: =F15*4/1000 -> 14452 | F15: 3613000
A16: 25.65 | B16: 13055 | D16: 09/10 | E16: =F16*4/1000 -> 15099 | F16: 3774750
A17: 22.3 | B17: 18202 | D17: 10/11 | E17: =F17*4/1000 -> 13055 | F17: 3263750
A18: 20.28 | B18: 19225 | D18: 11/12 | E18: =F18*4/1000 -> 18202 | F18: 4550500
A19: 29.81 | B19: 14656 | D19: 12/13 | E19: =F19*4/1000 -> 19225 | F19: 4806250
A20: =8695.12/1000*4 -> 34.78048 | B20: 15663 | D20: 13/14 | E20: =F20*4/1000 -> 14656 | F20: =14656000/4 -> 3664000
A21: 38.35 | B21: 13942 | D21: 14/15 | E21: =F21*4/1000 -> 15663 | F21: =15663000/4 -> 3915750
A22: =5877.21/1000*4 -> 23.50884 | B22: 27772 | D22: 15/16 | E22: =F22*4/1000 -> 13942.044 | F22: 3485511
A23: =7025.43/1000*4 -> 28.10172 | B23: 22726 | D23: 16/17 | E23: =F23*4/1000 -> 27772 | F23: =27772000/4 -> 6943000
A24: =6043.98/1000*4 -> 24.17592 | B24: 29655 | D24: 17/18 | E24: =F24*4/1000 -> 22726 | F24: =22726000/4 -> 5681500
A25: 28.415 | B25: 22900 | D25: 18/19 | E25: =F25*4/1000 -> 29655 | F25: =29655000/4 -> 7413750
D26: 19/20 | E26: =F26*4/1000 -> 22900 | F26: 5725000
D27: 20/21 | E27: =F27*4/1000 -> 19383.41 | F27: 4845852.5
D28: 21/22 | E28: =F28*4/1000 -> 18263.526 | F28: 4565881.5
D29: 22/23 | E29: =F29*4/1000 -> 14910.002 | F29: 3727500.5
D30: 23/24 | E30: =F30*4/1000 -> 18426.824 | F30: 4606706
D31: 24/25 | E31: 16809.964 | F31: 4202491
D32: 25/26 | E32: 22205.718 | F32: 5551429.5

Sheet EXPORT
B2: MANGO PRODUCTION EXPORT SALES
B6: YEAR | C6: TON | D6: 4KG CARTON
B7: 00/01 | C7: =D7*4/1000 -> 11920.4 | D7: 2980100
B8: 01/02 | C8: =D8*4/1000 -> 16406.272 | D8: 4101568
B9: 02/03 | C9: =D9*4/1000 -> 17336.72 | D9: 4334180
B10: 03/04 | C10: =D10*4/1000 -> 7583.516 | D10: 1895879
B11: 04/05 | C11: =D11*4/1000 -> 6055.584 | D11: 1513896
B12: 05/06 | C12: =D12*4/1000 -> 2354.784 | D12: 588696
B13: 06/07 | C13: =D13*4/1000 -> 4429.532 | D13: 1107383
B14: 07/08 | C14: =D14*4/1000 -> 2583.476 | D14: 645869
B15: 08/09 | C15: =D15*4/1000 -> 1619.792 | D15: 404948
B16: 09/10 | C16: =D16*4/1000 -> 1615.576 | D16: 403894
B17: 10/11 | C17: =D17*4/1000 -> 656.692 | D17: 164173
B18: 11/12 | C18: =D18*4/1000 -> 1072.348 | D18: 268087
... B32: 25/26 | C32: =D32*4/1000 -> 9435.144 | D32: 2358786

Sheet DIRECT
B2: MANGO
B3: PRODUCTION
B4: DIRECT
B5: SALES
B6: YEAR | C6: TON
B7: 14/15 | C7: 0
B8: 15/16 | C8: 0
B9: 16/17 | C9: 1072
B10: 17/18 | C10: 5956
B11: 18/19 | C11: 2224
B12: 19/20 | C12: 6820.954
B13: 20/21 | C13: 4564.485
B14: 21/22 | C14: 6176.161
B15: 22/23 | C15: 8499.247
B16: 23/24 | C16: 10578
B17: 24/25 | C17: 6720.21
B18: 25/26 | C18: 6817.729

Sheet DATA BEFORE 2000
B2: MANGO | E2: MANGO | H2: MANGO | K2: MANGO | O2: MANGO PRODUCTION EXPORT SALES
B3: PRODUCTION | E3: PRODUCTION | H3: PRODUCTION | K3: PRODUCTION
B4: PROCESSING | E4: PROCESSING | H4: PROCESSING | K4: NFPM
B5: ACHAR | E5: DRIED | H5: JUICE | K5: SALES
B6: YEAR | C6: TON | E6: YEAR | F6: TON | H6: YEAR | I6: TON | K6: YEAR | L6: TONS | M6: 4Kg Cartons | O6: YEAR | P6: TON | Q6: 4KG CARTON
B7: 83/84 | C7: 6000 | E7: 86/87 | F7: 350 | H7: 83/84 | I7: 500 | K7: 73/74 | L7: =M7*4/1000 -> 6964 | M7: 1741000 | O7: 82/83 | P7: =SUM(Q7*4/1000) -> 1012 | Q7: 253000
B8: 84/85 | C8: 9000 | E8: 87/88 | F8: 535 | H8: 84/85 | I8: 500 | K8: 74/75 | L8: =M8*4/1000 -> 3307 | M8: 826750 | O8: 83/84 | P8: =SUM(Q8*4/1000) -> 1248 | Q8: 312000
B9: 85/86 | C9: 5500 | E9: 88/89 | F9: 570 | H9: 85/86 | I9: 1000 | K9: 75/76 | L9: =M9*4/1000 -> 9778 | M9: 2444500 | O9: 84/85 | P9: =SUM(Q9*4/1000) -> 752 | Q9: 188000
B10: 86/87 | C10: 7750 | E10: 89/90 | F10: 600 | H10: 86/87 | I10: 2350 | K10: 76/77 | L10: =M10*4/1000 -> 6572 | M10: 1643000 | O10: 85/86 | P10: =SUM(Q10*4/1000) -> 832 | Q10: 208000
B11: 87/88 | C11: 9980 | E11: 90/91 | F11: 700 | H11: 87/88 | I11: 755 | K11: 77/78 | L11: =M11*4/1000 -> 11650 | M11: 2912500 | O11: 86/87 | P11: =SUM(Q11*4/1000) -> 1448 | Q11: 362000
B12: 88/89 | C12: 12000 | E12: 91/92 | F12: 700 | H12: 88/89 | I12: 930 | K12: 78/79 | L12: =M12*4/1000 -> 12717 | M12: 3179250 | O12: 87/88 | P12: =Q12*4/1000 -> 1532 | Q12: 383000
B13: 89/90 | C13: 12000 | E13: 92/93 | F13: 710 | H13: 89/90 | I13: 2400 | K13: 79/80 | L13: =M13*4/1000 -> 7481 | M13: 1870250 | O13: 88/89 | P13: =Q13*4/1000 -> 2400 | Q13: 600000
B14: 90/91 | C14: 16000 | E14: 93/94 | F14: 725 | H14: 90/91 | I14: 3300 | K14: 80/81 | L14: =M14*4/1000 -> 10908 | M14: 2727000 | O14: 89/90 | P14: =Q14*4/1000 -> 2680 | Q14: 670000
B15: 91/92 | C15: 19000 | E15: 94/95 | F15: 750 | H15: 91/92 | I15: 4000 | K15: 81/82 | L15: =M15*4/1000 -> 3812 | M15: 953000 | O15: 90/91 | P15: =Q15*4/1000 -> 2448 | Q15: 612000
B16: 92/93 | C16: 19000 | E16: 95/96 | F16: 1000 | H16: 92/93 | I16: 4000 | K16: 82/83 | L16: =M16*4/1000 -> 8508 | M16: 2127000 | O16: 91/92 | P16: =Q16*4/1000 -> 4400 | Q16: 1100000
B17: 93/94 | C17: 11793 | E17: 96/97 | F17: 2500 | H17: 93/94 | I17: 4571 | K17: 83/84 | L17: =M17*4/1000 -> 10196 | M17: 2549000 | O17: 92/93 | P17: =Q17*4/1000 -> 4280 | Q17: 1070000
B18: 94/95 | C18: 15000 | E18: 97/98 | F18: 2626 | H18: 94/95 | I18: 3500 | K18: 84/85 | L18: =M18*4/1000 -> 8160 | M18: 2040000 | O18: 93/94 | P18: =Q18*4/1000 -> 6200 | Q18: 1550000
B19: 95/96 | C19: 20000 | E19: 98/99 | F19: 3000 | H19: 95/96 | I19: 3826 | K19: 85/86 | L19: =M19*4/1000 -> 10664 | M19: 2666000 | O19: 94/95 | P19: =Q19*4/1000 -> 6600 | Q19: 1650000
B20: 96/97 | C20: 15000 | E20: 99/00 | F20: 3000 | H20: 96/97 | I20: 5500 | K20: 86/87 | L20: =M20*4/1000 -> 15768 | M20: 3942000 | O20: 95/96 | P20: =Q20*4/1000 -> 6251.536 | Q20: 1562884
B21: 97/98 | C21: 19976 | H21: 97/98 | I21: 8407 | K21: 87/88 | L21: =M21*4/1000 -> 10972 | M21: 2743000 | O21: 96/97 | P21: =Q21*4/1000 -> 6908.276 | Q21: 1727069
B22: 98/99 | C22: 20000 | H22: 98/99 | I22: 5000 | K22: 88/89 | L22: =M22*4/1000 -> 12536.424 | M22: 3134106 | O22: 97/98 | P22: =Q22*4/1000 -> 8603.772 | Q22: 2150943
B23: 99/00 | C23: 20000 | H23: 99/00 | I23: 8000 | K23: 89/90 | L23: =M23*4/1000 -> 14400 | M23: 3600000 | O23: 98/99 | P23: =Q23*4/1000 -> 12706.556 | Q23: 3176639
K24: 90/91 | L24: =M24*4/1000 -> 12820 | M24: 3205000 | O24: 99/00 | P24: =Q24*4/1000 -> 10531.644 | Q24: 2632911
K25: 91/92 | L25: =M25*4/1000 -> 14115.988 | M25: 3528997
K26: 92/93 | L26: =M26*4/1000 -> 13916.704 | M26: 3479176
K27: 93/94 | L27: =M27*4/1000 -> 17549.808 | M27: 4387452
K28: 94/95 | L28: =M28*4/1000 -> 14488.008 | M28: 3622002
K29: 95/96 | L29: =M29*4/1000 -> 14774.86 | M29: 3693715
K30: 96/97 | L30: =M30*4/1000 -> 13155.856 | M30: 3288964
K31: 97/98 | L31: =M31*4/1000 -> 18170.332 | M31: 4542583
K32: 98/99 | L32: =M32*4/1000 -> 20851.612 | M32: 5212903
K33: 99/00 | L33: =M33*4/1000 -> 19881.972 | M33: 4970493
